Package: biodbChebi Version: 1.17.0 Command: rm -rf biodbChebi.buildbin-libdir && mkdir biodbChebi.buildbin-libdir && /Users/biocbuild/BBS/utils/build-universal.sh biodbChebi_1.17.0.tar.gz /Library/Frameworks/R.framework/Resources/bin/R biodbChebi.buildbin-libdir StartedAt: 2025-11-13 23:29:27 -0500 (Thu, 13 Nov 2025) EndedAt: 2025-11-13 23:29:32 -0500 (Thu, 13 Nov 2025) EllapsedTime: 5.1 seconds RetCode: 0 Status: OK PackageFile: biodbChebi_1.17.0.tgz PackageFileSize: 394.4 KiB