Package: biocroxytest Version: 1.7.0 Command: /home/biocbuild/bbs-3.23-bioc/R/bin/R CMD INSTALL biocroxytest StartedAt: 2025-11-11 15:12:18 -0500 (Tue, 11 Nov 2025) EndedAt: 2025-11-11 15:12:38 -0500 (Tue, 11 Nov 2025) EllapsedTime: 19.1 seconds RetCode: 0 Status: OK