Package: biocroxytest Version: 1.7.0 Command: /Library/Frameworks/R.framework/Resources/bin/R CMD INSTALL biocroxytest StartedAt: 2025-11-12 15:19:25 -0500 (Wed, 12 Nov 2025) EndedAt: 2025-11-12 15:19:35 -0500 (Wed, 12 Nov 2025) EllapsedTime: 10.0 seconds RetCode: 0 Status: OK