Package: biocroxytest Version: 1.7.0 Command: /Library/Frameworks/R.framework/Resources/bin/R CMD build --keep-empty-dirs --no-resave-data biocroxytest StartedAt: 2025-11-12 15:52:44 -0500 (Wed, 12 Nov 2025) EndedAt: 2025-11-12 15:52:47 -0500 (Wed, 12 Nov 2025) EllapsedTime: 3.0 seconds RetCode: 0 Status: OK PackageFile: biocroxytest_1.7.0.tar.gz PackageFileSize: 2.493 MiB