Package: biocmake Version: 1.3.0 Command: /home/biocbuild/bbs-3.23-bioc/R/bin/R CMD INSTALL biocmake StartedAt: 2025-11-14 15:05:44 -0500 (Fri, 14 Nov 2025) EndedAt: 2025-11-14 15:06:02 -0500 (Fri, 14 Nov 2025) EllapsedTime: 18.3 seconds RetCode: 0 Status: OK