Package: biocmake Version: 1.3.0 Command: /Library/Frameworks/R.framework/Resources/bin/R CMD INSTALL biocmake StartedAt: 2025-11-13 15:02:53 -0500 (Thu, 13 Nov 2025) EndedAt: 2025-11-13 15:03:01 -0500 (Thu, 13 Nov 2025) EllapsedTime: 8.5 seconds RetCode: 0 Status: OK