Package: biocmake Version: 1.3.0 Command: /Library/Frameworks/R.framework/Resources/bin/R CMD build --keep-empty-dirs --no-resave-data biocmake StartedAt: 2025-11-13 15:48:35 -0500 (Thu, 13 Nov 2025) EndedAt: 2025-11-13 15:48:39 -0500 (Thu, 13 Nov 2025) EllapsedTime: 3.0 seconds RetCode: 0 Status: OK PackageFile: biocmake_1.3.0.tar.gz PackageFileSize: 223.2 KiB