Package: biocViews Version: 1.79.0 Command: /home/biocbuild/bbs-3.23-bioc/R/bin/R CMD build --keep-empty-dirs --no-resave-data biocViews StartedAt: 2025-11-11 16:32:49 -0500 (Tue, 11 Nov 2025) EndedAt: 2025-11-11 16:33:04 -0500 (Tue, 11 Nov 2025) EllapsedTime: 15.1 seconds RetCode: 0 Status: OK PackageFile: biocViews_1.79.0.tar.gz PackageFileSize: 510.1 KiB