Package: biocViews Version: 1.79.0 Command: rm -rf biocViews.buildbin-libdir && mkdir biocViews.buildbin-libdir && /Users/biocbuild/BBS/utils/build-universal.sh biocViews_1.79.0.tar.gz /Library/Frameworks/R.framework/Resources/bin/R biocViews.buildbin-libdir StartedAt: 2025-11-13 23:29:26 -0500 (Thu, 13 Nov 2025) EndedAt: 2025-11-13 23:29:31 -0500 (Thu, 13 Nov 2025) EllapsedTime: 5.1 seconds RetCode: 0 Status: OK PackageFile: biocViews_1.79.0.tgz PackageFileSize: 900.8 KiB