Package: biocGraph Version: 1.73.0 Command: /home/biocbuild/bbs-3.23-bioc/R/bin/R CMD INSTALL biocGraph StartedAt: 2025-11-13 15:27:16 -0500 (Thu, 13 Nov 2025) EndedAt: 2025-11-13 15:27:29 -0500 (Thu, 13 Nov 2025) EllapsedTime: 13.3 seconds RetCode: 0 Status: OK