Package: biocGraph Version: 1.73.0 Command: /Library/Frameworks/R.framework/Resources/bin/R CMD INSTALL biocGraph StartedAt: 2025-11-13 15:09:24 -0500 (Thu, 13 Nov 2025) EndedAt: 2025-11-13 15:09:30 -0500 (Thu, 13 Nov 2025) EllapsedTime: 5.9 seconds RetCode: 0 Status: OK