Package: biocGraph Version: 1.73.0 Command: /Library/Frameworks/R.framework/Resources/bin/R CMD build --keep-empty-dirs --no-resave-data biocGraph StartedAt: 2025-11-13 15:48:26 -0500 (Thu, 13 Nov 2025) EndedAt: 2025-11-13 15:48:40 -0500 (Thu, 13 Nov 2025) EllapsedTime: 13.2 seconds RetCode: 0 Status: OK PackageFile: biocGraph_1.73.0.tar.gz PackageFileSize: 731.2 KiB