Package: bioDist Version: 1.83.0 Command: /home/biocbuild/bbs-3.23-bioc/R/bin/R CMD INSTALL bioDist StartedAt: 2025-11-13 15:13:07 -0500 (Thu, 13 Nov 2025) EndedAt: 2025-11-13 15:13:10 -0500 (Thu, 13 Nov 2025) EllapsedTime: 2.7 seconds RetCode: 0 Status: OK