Package: bioDist Version: 1.83.0 Command: /home/biocbuild/bbs-3.23-bioc/R/bin/R CMD build --keep-empty-dirs --no-resave-data bioDist StartedAt: 2025-11-13 16:29:26 -0500 (Thu, 13 Nov 2025) EndedAt: 2025-11-13 16:29:42 -0500 (Thu, 13 Nov 2025) EllapsedTime: 16.0 seconds RetCode: 0 Status: OK PackageFile: bioDist_1.83.0.tar.gz PackageFileSize: 205.2 KiB