Package: bioDist Version: 1.83.0 Command: /Library/Frameworks/R.framework/Resources/bin/R CMD INSTALL bioDist StartedAt: 2025-11-13 15:07:10 -0500 (Thu, 13 Nov 2025) EndedAt: 2025-11-13 15:07:12 -0500 (Thu, 13 Nov 2025) EllapsedTime: 1.8 seconds RetCode: 0 Status: OK