Package: bioDist Version: 1.83.0 Command: /Library/Frameworks/R.framework/Resources/bin/R CMD build --keep-empty-dirs --no-resave-data bioDist StartedAt: 2025-11-12 15:53:05 -0500 (Wed, 12 Nov 2025) EndedAt: 2025-11-12 15:53:13 -0500 (Wed, 12 Nov 2025) EllapsedTime: 8.1 seconds RetCode: 0 Status: OK PackageFile: bioDist_1.83.0.tar.gz PackageFileSize: 204.6 KiB