Package: bioCancer Version: 1.39.0 Command: /home/biocbuild/bbs-3.23-bioc/R/bin/R CMD INSTALL bioCancer StartedAt: 2025-11-13 15:57:54 -0500 (Thu, 13 Nov 2025) EndedAt: 2025-11-13 15:58:50 -0500 (Thu, 13 Nov 2025) EllapsedTime: 55.4 seconds RetCode: 0 Status: OK