Package: bioCancer Version: 1.39.0 Command: /Library/Frameworks/R.framework/Resources/bin/R CMD INSTALL bioCancer StartedAt: 2025-11-12 15:45:16 -0500 (Wed, 12 Nov 2025) EndedAt: 2025-11-12 15:45:38 -0500 (Wed, 12 Nov 2025) EllapsedTime: 22.1 seconds RetCode: 0 Status: OK