Package: bioCancer Version: 1.39.0 Command: /Library/Frameworks/R.framework/Resources/bin/R CMD build --keep-empty-dirs --no-resave-data bioCancer StartedAt: 2025-11-12 15:52:05 -0500 (Wed, 12 Nov 2025) EndedAt: 2025-11-12 15:52:29 -0500 (Wed, 12 Nov 2025) EllapsedTime: 24.3 seconds RetCode: 0 Status: OK PackageFile: bioCancer_1.39.0.tar.gz PackageFileSize: 9.459 MiB