Package: bioCancer Version: 1.39.0 Command: rm -rf bioCancer.buildbin-libdir && mkdir bioCancer.buildbin-libdir && /Users/biocbuild/BBS/utils/build-universal.sh bioCancer_1.39.0.tar.gz /Library/Frameworks/R.framework/Resources/bin/R bioCancer.buildbin-libdir StartedAt: 2025-11-12 20:51:55 -0500 (Wed, 12 Nov 2025) EndedAt: 2025-11-12 20:52:23 -0500 (Wed, 12 Nov 2025) EllapsedTime: 27.9 seconds RetCode: 0 Status: OK PackageFile: bioCancer_1.39.0.tgz PackageFileSize: 7.423 MiB