Package: bioCancer Version: 1.39.0 Maintainer: Karim Mezhoud MaintainerEmail: kmezhoud at gmail.com git_url: https://git.bioconductor.org/packages/bioCancer git_branch: devel git_last_commit: 45dcc83 git_last_commit_date: 2025-10-29 10:32:26 -0500 (Wed, 29 Oct 2025)