Package: bigmelon Version: 1.37.0 Command: /home/biocbuild/bbs-3.23-bioc/R/bin/R CMD build --keep-empty-dirs --no-resave-data bigmelon StartedAt: 2025-11-14 16:26:23 -0500 (Fri, 14 Nov 2025) EndedAt: 2025-11-14 16:27:44 -0500 (Fri, 14 Nov 2025) EllapsedTime: 81.1 seconds RetCode: 0 Status: OK PackageFile: bigmelon_1.37.0.tar.gz PackageFileSize: 901.6 KiB