Package: bigmelon Version: 1.37.0 Command: /Library/Frameworks/R.framework/Resources/bin/R CMD build --keep-empty-dirs --no-resave-data bigmelon StartedAt: 2025-11-13 15:47:42 -0500 (Thu, 13 Nov 2025) EndedAt: 2025-11-13 15:48:17 -0500 (Thu, 13 Nov 2025) EllapsedTime: 35.4 seconds RetCode: 0 Status: OK PackageFile: bigmelon_1.37.0.tar.gz PackageFileSize: 901.6 KiB