Package: bigmelon Version: 1.37.0 Maintainer: Leonard C. Schalkwyk MaintainerEmail: lschal at essex.ac.uk git_url: https://git.bioconductor.org/packages/bigmelon git_branch: devel git_last_commit: 142a0e8 git_last_commit_date: 2025-10-29 10:34:27 -0500 (Wed, 29 Oct 2025)