Package: betaHMM Version: 1.7.0 Command: /home/biocbuild/bbs-3.23-bioc/R/bin/R CMD build --keep-empty-dirs --no-resave-data betaHMM StartedAt: 2025-11-14 16:25:23 -0500 (Fri, 14 Nov 2025) EndedAt: 2025-11-14 16:30:03 -0500 (Fri, 14 Nov 2025) EllapsedTime: 280.3 seconds RetCode: 0 Status: OK PackageFile: betaHMM_1.7.0.tar.gz PackageFileSize: 3.839 MiB