Package: betaHMM Version: 1.7.0 Command: rm -rf betaHMM.buildbin-libdir && mkdir betaHMM.buildbin-libdir && /Users/biocbuild/BBS/utils/build-universal.sh betaHMM_1.7.0.tar.gz /Library/Frameworks/R.framework/Resources/bin/R betaHMM.buildbin-libdir StartedAt: 2025-11-14 23:24:03 -0500 (Fri, 14 Nov 2025) EndedAt: 2025-11-14 23:24:16 -0500 (Fri, 14 Nov 2025) EllapsedTime: 13.3 seconds RetCode: 0 Status: OK PackageFile: betaHMM_1.7.0.tgz PackageFileSize: 3.926 MiB