Package: betaHMM Version: 1.7.0 Maintainer: Koyel Majumdar MaintainerEmail: koyelmajumdar.phdresearch at gmail.com git_url: https://git.bioconductor.org/packages/betaHMM git_branch: devel git_last_commit: 3efe81d git_last_commit_date: 2025-10-29 11:27:07 -0500 (Wed, 29 Oct 2025)