Package: benchdamic Version: 1.17.0 Command: /Library/Frameworks/R.framework/Resources/bin/R CMD INSTALL benchdamic StartedAt: 2025-11-14 15:16:37 -0500 (Fri, 14 Nov 2025) EndedAt: 2025-11-14 15:17:05 -0500 (Fri, 14 Nov 2025) EllapsedTime: 28.0 seconds RetCode: 0 Status: OK