Package: benchdamic Version: 1.17.0 Command: /Library/Frameworks/R.framework/Resources/bin/R CMD build --keep-empty-dirs --no-resave-data benchdamic StartedAt: 2025-11-14 15:44:00 -0500 (Fri, 14 Nov 2025) EndedAt: 2025-11-14 15:51:08 -0500 (Fri, 14 Nov 2025) EllapsedTime: 427.8 seconds RetCode: 0 Status: OK PackageFile: benchdamic_1.17.0.tar.gz PackageFileSize: 5.776 MiB