Package: benchdamic Version: 1.17.0 Command: rm -rf benchdamic.buildbin-libdir && mkdir benchdamic.buildbin-libdir && /Users/biocbuild/BBS/utils/build-universal.sh benchdamic_1.17.0.tar.gz /Library/Frameworks/R.framework/Resources/bin/R benchdamic.buildbin-libdir StartedAt: 2025-11-14 23:23:59 -0500 (Fri, 14 Nov 2025) EndedAt: 2025-11-14 23:24:32 -0500 (Fri, 14 Nov 2025) EllapsedTime: 33.8 seconds RetCode: 0 Status: OK PackageFile: benchdamic_1.17.0.tgz PackageFileSize: 6.131 MiB