Package: bedbaser Version: 1.3.0 Command: /Library/Frameworks/R.framework/Resources/bin/R CMD build --keep-empty-dirs --no-resave-data bedbaser StartedAt: 2025-11-14 15:43:59 -0500 (Fri, 14 Nov 2025) EndedAt: 2025-11-14 15:44:42 -0500 (Fri, 14 Nov 2025) EllapsedTime: 43.5 seconds RetCode: 0 Status: OK PackageFile: bedbaser_1.3.0.tar.gz PackageFileSize: 251.7 KiB