Package: bedbaser Version: 1.3.0 Maintainer: Andres Wokaty MaintainerEmail: jennifer.wokaty at sph.cuny.edu git_url: https://git.bioconductor.org/packages/bedbaser git_branch: devel git_last_commit: c5c189a git_last_commit_date: 2025-10-29 11:34:32 -0500 (Wed, 29 Oct 2025)