Package: beadarray Version: 2.61.0 Command: /home/biocbuild/bbs-3.23-bioc/R/bin/R CMD INSTALL beadarray StartedAt: 2025-11-11 15:33:59 -0500 (Tue, 11 Nov 2025) EndedAt: 2025-11-11 15:34:25 -0500 (Tue, 11 Nov 2025) EllapsedTime: 26.0 seconds RetCode: 0 Status: OK