Package: beadarray Version: 2.61.0 Command: /home/biocbuild/bbs-3.23-bioc/R/bin/R CMD check --install=check:beadarray.install-out.txt --library=/home/biocbuild/bbs-3.23-bioc/R/site-library --timings beadarray_2.61.0.tar.gz StartedAt: 2025-11-14 21:20:00 -0500 (Fri, 14 Nov 2025) EndedAt: 2025-11-14 21:20:06 -0500 (Fri, 14 Nov 2025) EllapsedTime: 6.0 seconds RetCode: 1 Status: ERROR CheckDir: beadarray.Rcheck Warnings: NA