Package: beadarray Version: 2.61.0 Command: /home/biocbuild/bbs-3.23-bioc/R/bin/R CMD build --keep-empty-dirs --no-resave-data beadarray StartedAt: 2025-11-11 16:27:12 -0500 (Tue, 11 Nov 2025) EndedAt: 2025-11-11 16:29:53 -0500 (Tue, 11 Nov 2025) EllapsedTime: 161.1 seconds RetCode: 0 Status: OK PackageFile: beadarray_2.61.0.tar.gz PackageFileSize: 3.744 MiB