Package: beadarray Version: 2.61.0 Command: /Library/Frameworks/R.framework/Resources/bin/R CMD INSTALL beadarray StartedAt: 2025-11-12 15:32:40 -0500 (Wed, 12 Nov 2025) EndedAt: 2025-11-12 15:32:50 -0500 (Wed, 12 Nov 2025) EllapsedTime: 9.7 seconds RetCode: 0 Status: OK