Package: beadarray Version: 2.61.0 Command: /Library/Frameworks/R.framework/Resources/bin/R CMD build --keep-empty-dirs --no-resave-data beadarray StartedAt: 2025-11-12 15:51:07 -0500 (Wed, 12 Nov 2025) EndedAt: 2025-11-12 15:51:23 -0500 (Wed, 12 Nov 2025) EllapsedTime: 15.2 seconds RetCode: 1 Status: ERROR PackageFile: None PackageFileSize: NA