Package: beachmat.hdf5 Version: 1.9.0 Command: /home/biocbuild/bbs-3.23-bioc/R/bin/R CMD INSTALL beachmat.hdf5 StartedAt: 2025-11-14 15:36:22 -0500 (Fri, 14 Nov 2025) EndedAt: 2025-11-14 15:37:34 -0500 (Fri, 14 Nov 2025) EllapsedTime: 72.1 seconds RetCode: 0 Status: OK