Package: beachmat.hdf5 Version: 1.9.0 Command: /home/biocbuild/bbs-3.23-bioc/R/bin/R CMD build --keep-empty-dirs --no-resave-data beachmat.hdf5 StartedAt: 2025-11-13 16:23:19 -0500 (Thu, 13 Nov 2025) EndedAt: 2025-11-13 16:24:38 -0500 (Thu, 13 Nov 2025) EllapsedTime: 79.1 seconds RetCode: 0 Status: OK PackageFile: beachmat.hdf5_1.9.0.tar.gz PackageFileSize: 297.3 KiB