Package: beachmat.hdf5 Version: 1.9.0 Command: /Library/Frameworks/R.framework/Resources/bin/R CMD INSTALL beachmat.hdf5 StartedAt: 2025-11-14 15:10:56 -0500 (Fri, 14 Nov 2025) EndedAt: 2025-11-14 15:11:15 -0500 (Fri, 14 Nov 2025) EllapsedTime: 19.0 seconds RetCode: 0 Status: OK