Package: beachmat.hdf5 Version: 1.9.0 Command: /Library/Frameworks/R.framework/Resources/bin/R CMD build --keep-empty-dirs --no-resave-data beachmat.hdf5 StartedAt: 2025-11-13 15:46:38 -0500 (Thu, 13 Nov 2025) EndedAt: 2025-11-13 15:47:01 -0500 (Thu, 13 Nov 2025) EllapsedTime: 23.3 seconds RetCode: 0 Status: OK PackageFile: beachmat.hdf5_1.9.0.tar.gz PackageFileSize: 297.2 KiB