Package: bcSeq Version: 1.33.0 Command: /home/biocbuild/bbs-3.23-bioc/R/bin/R CMD build --keep-empty-dirs --no-resave-data bcSeq StartedAt: 2025-11-13 16:22:31 -0500 (Thu, 13 Nov 2025) EndedAt: 2025-11-13 16:23:19 -0500 (Thu, 13 Nov 2025) EllapsedTime: 48.0 seconds RetCode: 0 Status: OK PackageFile: bcSeq_1.33.0.tar.gz PackageFileSize: 240.9 KiB