Package: bcSeq Version: 1.33.0 Command: /Library/Frameworks/R.framework/Resources/bin/R CMD INSTALL bcSeq StartedAt: 2025-11-12 15:23:29 -0500 (Wed, 12 Nov 2025) EndedAt: 2025-11-12 15:23:40 -0500 (Wed, 12 Nov 2025) EllapsedTime: 11.2 seconds RetCode: 0 Status: OK