Package: bcSeq Version: 1.33.0 Command: /Library/Frameworks/R.framework/Resources/bin/R CMD build --keep-empty-dirs --no-resave-data bcSeq StartedAt: 2025-11-12 15:50:58 -0500 (Wed, 12 Nov 2025) EndedAt: 2025-11-12 15:51:19 -0500 (Wed, 12 Nov 2025) EllapsedTime: 20.2 seconds RetCode: 0 Status: OK PackageFile: bcSeq_1.33.0.tar.gz PackageFileSize: 241.2 KiB