Package: bcSeq Version: 1.33.0 Maintainer: Jiaxing Lin MaintainerEmail: jiaxing.lin at duke.edu git_url: https://git.bioconductor.org/packages/bcSeq git_branch: devel git_last_commit: 7bf3e3b git_last_commit_date: 2025-10-29 10:42:17 -0500 (Wed, 29 Oct 2025)