Package: baySeq Version: 2.45.0 Command: /home/biocbuild/bbs-3.23-bioc/R/bin/R CMD build --keep-empty-dirs --no-resave-data baySeq StartedAt: 2025-11-13 16:22:08 -0500 (Thu, 13 Nov 2025) EndedAt: 2025-11-13 16:27:56 -0500 (Thu, 13 Nov 2025) EllapsedTime: 348.2 seconds RetCode: 0 Status: OK PackageFile: baySeq_2.45.0.tar.gz PackageFileSize: 1.125 MiB