Package: baySeq Version: 2.45.0 Command: /Library/Frameworks/R.framework/Resources/bin/R CMD build --keep-empty-dirs --no-resave-data baySeq StartedAt: 2025-11-14 15:43:09 -0500 (Fri, 14 Nov 2025) EndedAt: 2025-11-14 15:45:11 -0500 (Fri, 14 Nov 2025) EllapsedTime: 121.4 seconds RetCode: 0 Status: OK PackageFile: baySeq_2.45.0.tar.gz PackageFileSize: 1.124 MiB