Package: bayNorm Version: 1.29.0 Command: /home/biocbuild/bbs-3.23-bioc/R/bin/R CMD INSTALL bayNorm StartedAt: 2025-11-16 15:19:53 -0500 (Sun, 16 Nov 2025) EndedAt: 2025-11-16 15:20:39 -0500 (Sun, 16 Nov 2025) EllapsedTime: 45.9 seconds RetCode: 0 Status: OK