Package: bayNorm Version: 1.29.0 Command: /home/biocbuild/bbs-3.23-bioc/R/bin/R CMD build --keep-empty-dirs --no-resave-data bayNorm StartedAt: 2025-11-16 16:21:42 -0500 (Sun, 16 Nov 2025) EndedAt: 2025-11-16 16:22:51 -0500 (Sun, 16 Nov 2025) EllapsedTime: 69.0 seconds RetCode: 0 Status: OK PackageFile: bayNorm_1.29.0.tar.gz PackageFileSize: 1.526 MiB