Package: bayNorm Version: 1.29.0 Command: /Library/Frameworks/R.framework/Resources/bin/R CMD INSTALL bayNorm StartedAt: 2025-11-13 15:12:13 -0500 (Thu, 13 Nov 2025) EndedAt: 2025-11-13 15:12:28 -0500 (Thu, 13 Nov 2025) EllapsedTime: 15.4 seconds RetCode: 0 Status: OK